BEGIN:VCALENDAR
VERSION:2.0
PRODID:-//Manifest Excellence - ECPv6.15.11//NONSGML v1.0//EN
CALSCALE:GREGORIAN
METHOD:PUBLISH
X-ORIGINAL-URL:https://manifestexcellence.com
X-WR-CALDESC:Events for Manifest Excellence
REFRESH-INTERVAL;VALUE=DURATION:PT1H
X-Robots-Tag:noindex
X-PUBLISHED-TTL:PT1H
BEGIN:VTIMEZONE
TZID:America/New_York
BEGIN:DAYLIGHT
TZOFFSETFROM:-0500
TZOFFSETTO:-0400
TZNAME:EDT
DTSTART:20150308T070000
END:DAYLIGHT
BEGIN:STANDARD
TZOFFSETFROM:-0400
TZOFFSETTO:-0500
TZNAME:EST
DTSTART:20151101T060000
END:STANDARD
BEGIN:DAYLIGHT
TZOFFSETFROM:-0500
TZOFFSETTO:-0400
TZNAME:EDT
DTSTART:20160313T070000
END:DAYLIGHT
BEGIN:STANDARD
TZOFFSETFROM:-0400
TZOFFSETTO:-0500
TZNAME:EST
DTSTART:20161106T060000
END:STANDARD
BEGIN:DAYLIGHT
TZOFFSETFROM:-0500
TZOFFSETTO:-0400
TZNAME:EDT
DTSTART:20170312T070000
END:DAYLIGHT
BEGIN:STANDARD
TZOFFSETFROM:-0400
TZOFFSETTO:-0500
TZNAME:EST
DTSTART:20171105T060000
END:STANDARD
BEGIN:DAYLIGHT
TZOFFSETFROM:-0500
TZOFFSETTO:-0400
TZNAME:EDT
DTSTART:20180311T070000
END:DAYLIGHT
BEGIN:STANDARD
TZOFFSETFROM:-0400
TZOFFSETTO:-0500
TZNAME:EST
DTSTART:20181104T060000
END:STANDARD
END:VTIMEZONE
BEGIN:VEVENT
DTSTART;TZID=America/New_York:20170603T100000
DTEND;TZID=America/New_York:20170603T140000
DTSTAMP:20260424T013724
CREATED:20170603T071137Z
LAST-MODIFIED:20170603T071137Z
UID:2891-1496484000-1496498400@manifestexcellence.com
SUMMARY:The Vitamin Shoppe 40th Birthday Party!
DESCRIPTION:We’re so excited we were invited to celebrate The Vitamin Shoppe’s birthday! They’ve been helping people achieve their health and wellness goals for 40 years! We’ll be at the Stroudsburg\, PA store.  Dr. Donna L. Hamilton\, MD will be signing copies of her best-seller  Wellness Your Way and the store has lots of fun and party goodies planned.  And of course\, there’s going to be birthday cake! Come join the fun.  \n  \n  \nManifest Excellence\, LLC  is a participant in the Amazon Services LLC Associates Program\, an affiliate advertising program designed to provide a means for sites to earn advertising fees by advertising and linking to amazon.com
URL:https://manifestexcellence.com/event/the-vitamin-shoppe-40th-birthday-dr-donna-hamilton-md-party/
LOCATION:The Vitamin Shoppe\, Stroudsburg\, PA\, 300 Commerce Blvd.\, Stroudsburg\, PA\, 18360\, United States
CATEGORIES:Book Signing
END:VEVENT
BEGIN:VEVENT
DTSTART;TZID=America/New_York:20170415T100000
DTEND;TZID=America/New_York:20170415T140000
DTSTAMP:20260424T013724
CREATED:20170413T090925Z
LAST-MODIFIED:20170413T091216Z
UID:2871-1492250400-1492264800@manifestexcellence.com
SUMMARY:Monroe County Book Expo 2017
DESCRIPTION:  \nIt’s back! It’s time for the annual Monroe County book expo! Join over 20 local authors\, including Manifest Excellence’s Dr. Donna L. Hamilton\, MD at the annual Monroe County Book Expo. This year’s event begins with a discussion about how to find a publisher. After that\, you can meet local authors\, buy books\, and have them signed!
URL:https://manifestexcellence.com/event/monroe-county-book-expo-2017-dr-donna-hamilton/
LOCATION:Eastern Monroe Public Library\, United States
CATEGORIES:Book Signing
ATTACH;FMTTYPE=image/jpeg:https://manifestexcellence.com/wp-content/uploads/2017/04/Monroe-County-Book-Expo.jpg
END:VEVENT
BEGIN:VEVENT
DTSTART;TZID=America/New_York:20170325T130000
DTEND;TZID=America/New_York:20170325T160000
DTSTAMP:20260424T013724
CREATED:20170324T015732Z
LAST-MODIFIED:20170324T020330Z
UID:2852-1490446800-1490457600@manifestexcellence.com
SUMMARY:Delta Authors on Tour in the Eastern Region Book Signing
DESCRIPTION:Join us at this event presented by Delta Sigma Theta Sorority\, Inc National Arts and Letters Commission\, and hosted by the Atlantic City Alumnae chapter.  Dr. Donna L. Hamilton\, MD is  appearing with other phenomenal published authors who are also members of Delta Sigma Theta Sorority\, Inc.. It will be an exciting afternoon of literary discussion\, book signing\, and lots of book selling. \n 
URL:https://manifestexcellence.com/event/delta-authors-on-tour-in-the-eastern-region/
LOCATION:Atlantic City High School\, 1400 N Albany Ave\, Atlantic City\, \, New Jersey \, 08401\, United States
CATEGORIES:Book Signing
ATTACH;FMTTYPE=image/jpeg:https://manifestexcellence.com/wp-content/uploads/2017/03/FINAL_DAOT_2017_Flyer_ACANJ.jpg
END:VEVENT
BEGIN:VEVENT
DTSTART;TZID=America/New_York:20160416T100000
DTEND;TZID=America/New_York:20160416T140000
DTSTAMP:20260424T013724
CREATED:20160311T025946Z
LAST-MODIFIED:20160311T030741Z
UID:2275-1460800800-1460815200@manifestexcellence.com
SUMMARY:Monroe County Book Expo
DESCRIPTION:Join Dr. Donna L. Hamilton\, MD in the beautiful Pocono Mountains of Northeast Pennsylvania at this book expo. She will be signing copies of her best selling books Wellness Your Way and Voices of Inspiration\, volume 3.
URL:https://manifestexcellence.com/event/monroe-county-book-expo/
LOCATION:Eastern Monroe Public Library\, United States
CATEGORIES:Book Signing
END:VEVENT
BEGIN:VEVENT
DTSTART;TZID=America/New_York:20160305T114500
DTEND;TZID=America/New_York:20160305T130000
DTSTAMP:20260424T013724
CREATED:20160302T233107Z
LAST-MODIFIED:20160302T234053Z
UID:2269-1457178300-1457182800@manifestexcellence.com
SUMMARY:Book Signing
DESCRIPTION:  \nImmediately following the Journey to Wellness seminar\, Dr. Donna L. Hamilton\, MD will sign her best selling books  Wellness Your Way  and  Voices of Inspiration\, volume 3.  \n Wellness Your Way\nBecoming healthier starts with clear intentions and consistent habits. Whether it’s reducing stress\, feeling like your life has meaning\, losing weight\, kicking the smoking habit\, eating better\, creating positive relationships\, getting out of overwhelm\, or countless other health-related goals\, Wellness Your Way will guide you in your journey to better well-being. Practical and easy to understand\, this book offers information and guided journal exercises to assist you with identifying the most appropriate path for your journey to better wellness. \nDr. Donna L. Hamilton\, MD will help you chart a path to wellness that makes sense for you!
URL:https://manifestexcellence.com/event/book-signing/
LOCATION:Saint Peter’s University Hospital\, 254 Easton Avenue\, New Brunswick\, NJ\, United States
CATEGORIES:Book Signing
END:VEVENT
END:VCALENDAR