BEGIN:VCALENDAR
VERSION:2.0
PRODID:-//Manifest Excellence - ECPv6.15.11//NONSGML v1.0//EN
CALSCALE:GREGORIAN
METHOD:PUBLISH
X-WR-CALNAME:Manifest Excellence
X-ORIGINAL-URL:https://manifestexcellence.com
X-WR-CALDESC:Events for Manifest Excellence
REFRESH-INTERVAL;VALUE=DURATION:PT1H
X-Robots-Tag:noindex
X-PUBLISHED-TTL:PT1H
BEGIN:VTIMEZONE
TZID:America/New_York
BEGIN:DAYLIGHT
TZOFFSETFROM:-0500
TZOFFSETTO:-0400
TZNAME:EDT
DTSTART:20150308T070000
END:DAYLIGHT
BEGIN:STANDARD
TZOFFSETFROM:-0400
TZOFFSETTO:-0500
TZNAME:EST
DTSTART:20151101T060000
END:STANDARD
BEGIN:DAYLIGHT
TZOFFSETFROM:-0500
TZOFFSETTO:-0400
TZNAME:EDT
DTSTART:20160313T070000
END:DAYLIGHT
BEGIN:STANDARD
TZOFFSETFROM:-0400
TZOFFSETTO:-0500
TZNAME:EST
DTSTART:20161106T060000
END:STANDARD
BEGIN:DAYLIGHT
TZOFFSETFROM:-0500
TZOFFSETTO:-0400
TZNAME:EDT
DTSTART:20170312T070000
END:DAYLIGHT
BEGIN:STANDARD
TZOFFSETFROM:-0400
TZOFFSETTO:-0500
TZNAME:EST
DTSTART:20171105T060000
END:STANDARD
END:VTIMEZONE
BEGIN:VEVENT
DTSTART;TZID=America/New_York:20161102T070000
DTEND;TZID=America/New_York:20161102T193500
DTSTAMP:20260424T035322
CREATED:20161101T033238Z
LAST-MODIFIED:20161101T035154Z
UID:2606-1478070000-1478115300@manifestexcellence.com
SUMMARY:#HealthChat: How to Stress Less During the Holidays TweetChat
DESCRIPTION:November is here! That means Thanksgiving is in sight\, and Christmas\, Hanukah\, Kwanzaa\, and New Year’s eve are right around the corner. Join Dr. Donna L. Hamilton\, MD and guest expert Dr. Michelle Clay\, DO as they share juicy tips to help you calm the chaos and stress less during the holiday season. You’ll gain valuable gems of wellness wisdom\, 140 characters at a time.
URL:https://manifestexcellence.com/event/healthchat-how-to-stress-less-during-the-holidays-tweetchat/
LOCATION:Twitter
CATEGORIES:Tweetchat
ATTACH;FMTTYPE=image/png:https://manifestexcellence.com/wp-content/uploads/2016/10/e837b6082df2003ed95c4518b74d4f97e07fe6d304b0154692f9c679aee4bc_640-7.png
END:VEVENT
END:VCALENDAR